BEGIN:VCALENDAR
VERSION:2.0
PRODID:icalendar-ruby
CALSCALE:GREGORIAN
METHOD:PUBLISH
BEGIN:VEVENT
DTSTAMP:20260423T112126Z
UID:7-221097@lifeunited.tithelysetup2.com
DTSTART:20260802T163000Z
DTEND:20260802T200000Z
CLASS:PUBLIC
CREATED:20260207T194205
DESCRIPTION:Whether you're an early riser or like to sleep in a little - we
  have a Sunday service just for you!!\nThis Sunday at 9:30 or 11am\, come 
 experience a move of God like never before!!\nDon't forget to stop by the 
 coffee shop for a complementary pick-me-up before service!\n 
LAST-MODIFIED:20260207T194205
LOCATION:Main Sanctuary
SUMMARY:9:30 & 11AM WORSHIP SERVICES
URL;VALUE=URI:https://lifeunited.tithelysetup2.com/events/9-30-11am-worship
 -services/2026-08-02
ATTACH;FILENAME=church-background.jpeg;FMTTYPE=image/jpeg:https://dq5pwpg1q
 8ru0.cloudfront.net/2026/02/08/03/42/05/2ece512c-444d-442c-ba3f-db4d64f421
 12/church-background.jpeg
END:VEVENT
END:VCALENDAR
